BEGIN:VCALENDAR
VERSION:2.0
PRODID:-//Devpost\, Inc.//Hack-A-Damien//EN
CALSCALE:GREGORIAN
BEGIN:VTIMEZONE
TZID:America/New_York
BEGIN:DAYLIGHT
DTSTART:20260308T030000
TZOFFSETFROM:-0500
TZOFFSETTO:-0400
RRULE:FREQ=YEARLY;BYDAY=2SU;BYMONTH=3
TZNAME:EDT
END:DAYLIGHT
BEGIN:STANDARD
DTSTART:20261101T010000
TZOFFSETFROM:-0400
TZOFFSETTO:-0500
RRULE:FREQ=YEARLY;BYDAY=1SU;BYMONTH=11
TZNAME:EST
END:STANDARD
END:VTIMEZONE
BEGIN:VEVENT
DTSTAMP:20260425T143016Z
UID:300e5c53-61a2-45a7-a08d-4d0e0b6131e9
DTSTART;TZID=America/New_York:20260425T120000
DTEND;TZID=America/New_York:20260426T120000
DESCRIPTION:https://hack-a-damien2026.devpost.com/
LOCATION:1220 Washington Ave\, Albany\, NY 12226\, USA
SUMMARY:Hack-A-Damien
BEGIN:VALARM
ACTION:DISPLAY
TRIGGER:-P3D
SUMMARY:Get ready\, the hacking starts in 3 days.
END:VALARM
END:VEVENT
END:VCALENDAR
